BEGIN:VCALENDAR
VERSION:2.0
PRODID:-//Tukios.com/
BEGIN:VEVENT
UID:9aa35c2c-9ff8-454e-b8f9-11e66dffca72@www.hillfhkingston.com
DTSTAMP:20260426T013733Z
DTSTART:20260501
SUMMARY:Burial
DESCRIPTION:
URL:https://www.hillfhkingston.com/obituaries/robert-carroll
LOCATION:Springbank Cemetery 23888 SR 104  Chillicothe OH 45601
GEO:39.4812728;-83.016564
END:VEVENT
END:VCALENDAR