BEGIN:VCALENDAR
VERSION:2.0
PRODID:-//Tukios.com/
BEGIN:VEVENT
UID:58b6910b-7ffd-4247-bb90-2ebe912d05d7@www.hillfhkingston.com
DTSTAMP:20260426T014031Z
DTSTART:20260501T170000Z
DTEND:20260501T180000Z
SUMMARY:Funeral Service
DESCRIPTION:
URL:https://www.hillfhkingston.com/obituaries/robert-carroll
LOCATION:Hill Funeral Home 24 W Ing St  Kingston OH 45644
GEO:39.475194;-82.9124868
END:VEVENT
END:VCALENDAR