BEGIN:VCALENDAR
VERSION:2.0
PRODID:-//Tukios.com/
BEGIN:VEVENT
UID:aa2fa4ec-f0c9-425b-a5eb-f3e54439f046@www.hillfhkingston.com
DTSTAMP:20260426T014031Z
DTSTART:20260430T210000Z
DTEND:20260501T000000Z
SUMMARY:Visitation
DESCRIPTION:
URL:https://www.hillfhkingston.com/obituaries/robert-carroll
LOCATION: 24 W Ing St  Kingston OH 45644
GEO:39.475194;-82.9124868
END:VEVENT
END:VCALENDAR