BEGIN:VCALENDAR
VERSION:2.0
PRODID:-//Tukios.com/
BEGIN:VEVENT
UID:956a3d1f-7c3d-437b-a7fc-04ad7628bd9c@www.hillfhkingston.com
DTSTAMP:20260421T000403Z
DTSTART:20260425T150000Z
DTEND:20260425T160000Z
SUMMARY:Funeral Service
DESCRIPTION:
URL:https://www.hillfhkingston.com/obituaries/april-browning-ramey
LOCATION:Hill Funeral Home 24 W Ing St  Kingston OH 45644
GEO:39.475194;-82.9124868
END:VEVENT
END:VCALENDAR