BEGIN:VCALENDAR
VERSION:2.0
PRODID:-//Tukios.com/
BEGIN:VEVENT
UID:658ce646-2f60-42b5-b5b5-96aaa28379ec@www.hillfhkingston.com
DTSTAMP:20260421T000403Z
DTSTART:20260424T210000Z
DTEND:20260424T230000Z
SUMMARY:Visitation
DESCRIPTION:
URL:https://www.hillfhkingston.com/obituaries/april-browning-ramey
LOCATION: 24 W Ing St  Kingston OH 45644
GEO:39.475194;-82.9124868
END:VEVENT
END:VCALENDAR